BEGIN:VCALENDAR
VERSION:2.0
PRODID:-//Plone.org//NONSGML plone.app.event//EN
X-WR-TIMEZONE:Europe/Berlin
BEGIN:VEVENT
SUMMARY:Meet & Greet Dual Career
DTSTART;TZID=Europe/Berlin:20250519T140000
DTEND;TZID=Europe/Berlin:20250519T153000
DTSTAMP:20260423T072252Z
UID:09207934702d4bea930d389b2e32b79a@www.bora.uni-bonn.de
CREATED:20250331T075757Z
DESCRIPTION:We would like to leverage the neighborhood within the Bonn Res
 earch Alliance (BORA) and invite you to a collegial exchange on the topic 
 of Dual Career.\n\nThis exchange is aimed at colleagues from management an
 d administration who are involved in recruiting experienced researchers\, 
 providing advice on settling in Bonn with the whole family\, and offering 
 specific Dual Career services.\n\nEspecially when it comes to Dual Career 
 matters\, location plays a crucial role. We want to make better use of the
  potential of Bonn as a research hub in this regard.\n\nOur goal is to get
  to know each other\, gain insights into the existing structures\, explore
  ways to establish a trusted exchange when needed\, discuss current challe
 nges\, share tips\, exchange information needs and sources\, and know who 
 is on the other end of the phone.\n\nIf you are interested\, please contac
 t Heike Rauer.
LAST-MODIFIED:20250906T005715Z
URL:https://www.bora.uni-bonn.de/en/activities/events/meet-greet-dual-care
 er
END:VEVENT
BEGIN:VTIMEZONE
TZID:Europe/Berlin
X-LIC-LOCATION:Europe/Berlin
BEGIN:DAYLIGHT
DTSTART:20250330T030000
TZNAME:CEST
TZOFFSETFROM:+0100
TZOFFSETTO:+0200
END:DAYLIGHT
END:VTIMEZONE
END:VCALENDAR
