BEGIN:VCALENDAR
VERSION:2.0
PRODID:-//Plone.org//NONSGML plone.app.event//EN
X-WR-TIMEZONE:Europe/Berlin
BEGIN:VEVENT
SUMMARY:IMPULSE Café
DTSTART;TZID=Europe/Berlin:20260421T160000
DTEND;TZID=Europe/Berlin:20260421T173000
DTSTAMP:20260424T023539Z
UID:f41b63bbb7a74153924c59e3366409e7@www.bora.uni-bonn.de
CATEGORIES:Migration
CREATED:20250210T135024Z
DESCRIPTION:IMPULSE Café: Narratives of Migration\, Border/Sea Crossings 
 and Rescue in the Central Mediterranean\n\n📅 Datum: 21. April 2026\n⏰
  Uhrzeit: 16:00 - 17:30 Uhr\n📍 Ort: IMPULSE – House for Intellectual 
 Innovation and Creativity (Adenauerallee 131\, Bonn)\n\nDas IMPULSE Café 
 ist ein Format für Forschende der Flucht- und Migrationsstudien. In einer
  offenen Runde mit zwei Diskutant*innen\, einem Moderator und allen Teilne
 hmenden werden zentrale Forschungsthemen\, Theorien und Herausforderungen 
 bei Kaffee und Snacks besprochen.\n\nEs diskutieren:\n🔹 Prof. Lobna Ben
  Salem (University of Manouba)\n🔹 Dr. Maria Ullrich (Universität Bonn\
 , FIW)\n\n🎤 Moderator: Dr. Benjamin Etzold\, bicc (Bonn International C
 entre for Conflict Studies) und Bonn Center for Dependency and Slavery Stu
 dies (BCDSS)\, Universität Bonn\n\nMöchten Sie eigene Themen einbringen?
  Kontakt: benjamin.etzold@bicc.de.
LAST-MODIFIED:20260413T101710Z
URL:https://www.bora.uni-bonn.de/de/aktivitaeten/veranstaltungen/impulse-c
 afe_2104
END:VEVENT
BEGIN:VTIMEZONE
TZID:Europe/Berlin
X-LIC-LOCATION:Europe/Berlin
BEGIN:DAYLIGHT
DTSTART:20260329T030000
TZNAME:CEST
TZOFFSETFROM:+0100
TZOFFSETTO:+0200
END:DAYLIGHT
END:VTIMEZONE
END:VCALENDAR
